BEGIN:VCALENDAR
VERSION:2.0
PRODID:-//SV Scheidt 1910 e.V. - ECPv6.15.14//NONSGML v1.0//EN
CALSCALE:GREGORIAN
METHOD:PUBLISH
X-WR-CALNAME:SV Scheidt 1910 e.V.
X-ORIGINAL-URL:https://sv-scheidt.de
X-WR-CALDESC:Veranstaltungen für SV Scheidt 1910 e.V.
REFRESH-INTERVAL;VALUE=DURATION:PT1H
X-Robots-Tag:noindex
X-PUBLISHED-TTL:PT1H
BEGIN:VTIMEZONE
TZID:UTC
BEGIN:STANDARD
TZOFFSETFROM:+0000
TZOFFSETTO:+0000
TZNAME:UTC
DTSTART:20180101T000000
END:STANDARD
END:VTIMEZONE
BEGIN:VEVENT
DTSTART;TZID=UTC:20190601T110000
DTEND;TZID=UTC:20190601T200000
DTSTAMP:20260420T033330
CREATED:20190507T231245Z
LAST-MODIFIED:20190507T231245Z
UID:1167-1559386800-1559419200@sv-scheidt.de
SUMMARY:Kinderfest (SPIEL OHNE GRENZEN)
DESCRIPTION:
URL:https://sv-scheidt.de/event/kinderfest-spiel-ohne-grenzen/
LOCATION:SV Scheidt 1910 e.V.\, Sportplatz SV Scheidt\, 66133\, Auf den Hütten\, 66133 Saarbrücken\, Scheidt\, Saarland\, 66133\, Deutschland
CATEGORIES:Clubheim
END:VEVENT
BEGIN:VEVENT
DTSTART;TZID=UTC:20190608T170000
DTEND;TZID=UTC:20190608T233000
DTSTAMP:20260420T033330
CREATED:20190514T185854Z
LAST-MODIFIED:20190514T185854Z
UID:1193-1560013200-1560036600@sv-scheidt.de
SUMMARY:Clubheim ab 17 Uhr reserviert
DESCRIPTION:Clubheim ab 17 Uhr reserviert!
URL:https://sv-scheidt.de/event/clubheim-ab-17-uhr-reserviert/
LOCATION:SV Scheidt 1910 e.V.\, Sportplatz SV Scheidt\, 66133\, Auf den Hütten\, 66133 Saarbrücken\, Scheidt\, Saarland\, 66133\, Deutschland
CATEGORIES:Clubheim
END:VEVENT
BEGIN:VEVENT
DTSTART;TZID=UTC:20190610T130000
DTEND;TZID=UTC:20190610T160000
DTSTAMP:20260420T033330
CREATED:20190508T211359Z
LAST-MODIFIED:20190508T211359Z
UID:1176-1560171600-1560182400@sv-scheidt.de
SUMMARY:F-Jugend (Pfingstturnier in Ensheim)
DESCRIPTION:
URL:https://sv-scheidt.de/event/f-jugend-pfingstturnier-in-ensheim/
LOCATION:Saarland
CATEGORIES:F-Junioren
END:VEVENT
BEGIN:VEVENT
DTSTART;TZID=UTC:20190612T180000
DTEND;TZID=UTC:20190612T200000
DTSTAMP:20260420T033331
CREATED:20190505T213138Z
LAST-MODIFIED:20190505T213138Z
UID:1158-1560362400-1560369600@sv-scheidt.de
SUMMARY:Entscheidungsspiel / FFC DUDWEILER C-Mädchen
DESCRIPTION:Am 12.06.19 Entscheidungsspiel Medelsheim-Badenbach C- Mädels Anstoßes 18 Uhr in Scheidt.
URL:https://sv-scheidt.de/event/entscheidungsspiel-ffc-dudweiler-c-maedchen/
LOCATION:SV Scheidt 1910 e.V.\, Sportplatz SV Scheidt\, 66133\, Auf den Hütten\, 66133 Saarbrücken\, Scheidt\, Saarland\, 66133\, Deutschland
CATEGORIES:FFC Dudweiler
END:VEVENT
BEGIN:VEVENT
DTSTART;TZID=UTC:20190612T193000
DTEND;TZID=UTC:20190612T210000
DTSTAMP:20260420T033331
CREATED:20190604T184129Z
LAST-MODIFIED:20190604T184129Z
UID:1270-1560367800-1560373200@sv-scheidt.de
SUMMARY:3. Jugendsitzung 2019
DESCRIPTION:
URL:https://sv-scheidt.de/event/3-jugendsitzung-2019/
LOCATION:SV Scheidt 1910 e.V.\, Sportplatz SV Scheidt\, 66133\, Auf den Hütten\, 66133 Saarbrücken\, Scheidt\, Saarland\, 66133\, Deutschland
CATEGORIES:Clubheim,E-Junioren,F-Junioren,FFC Dudweiler,G-Junioren
END:VEVENT
BEGIN:VEVENT
DTSTART;VALUE=DATE:20190615
DTEND;VALUE=DATE:20190617
DTSTAMP:20260420T033331
CREATED:20190209T092203Z
LAST-MODIFIED:20190209T092203Z
UID:773-1560556800-1560729599@sv-scheidt.de
SUMMARY:Ein Dorf spielt Fußball 2019
DESCRIPTION:Dorf spielt Fußball\, 15. bis 18. Juni\, Arbeitspläne liegen Anfang Mai aus.
URL:https://sv-scheidt.de/event/ein-dorf-spielt-fussball-2019/
LOCATION:SV Scheidt 1910 e.V.\, Sportplatz SV Scheidt\, 66133\, Auf den Hütten\, 66133 Saarbrücken\, Scheidt\, Saarland\, 66133\, Deutschland
END:VEVENT
BEGIN:VEVENT
DTSTART;TZID=UTC:20190616T100000
DTEND;TZID=UTC:20190616T130000
DTSTAMP:20260420T033331
CREATED:20190611T132635Z
LAST-MODIFIED:20190611T132635Z
UID:1284-1560679200-1560690000@sv-scheidt.de
SUMMARY:G-Junioren (Turnier in Bischmisheim)
DESCRIPTION:G-Jugend
URL:https://sv-scheidt.de/event/g-junioren-turnier-in-bischmisheim/
LOCATION:Saarland
CATEGORIES:G-Junioren
END:VEVENT
BEGIN:VEVENT
DTSTART;TZID=UTC:20190616T130000
DTEND;TZID=UTC:20190616T160000
DTSTAMP:20260420T033331
CREATED:20190611T132852Z
LAST-MODIFIED:20190611T132852Z
UID:1287-1560690000-1560700800@sv-scheidt.de
SUMMARY:F-Junioren (Turnier in Bischmisheim)
DESCRIPTION:F-Jugend
URL:https://sv-scheidt.de/event/f-junioren-turnier-in-bischmisheim/
LOCATION:Saarland
CATEGORIES:F-Junioren
END:VEVENT
BEGIN:VEVENT
DTSTART;VALUE=DATE:20190622
DTEND;VALUE=DATE:20190623
DTSTAMP:20260420T033331
CREATED:20190320T072149Z
LAST-MODIFIED:20190320T072149Z
UID:1049-1561161600-1561247999@sv-scheidt.de
SUMMARY:Anlage belegt
DESCRIPTION:Anlage belegt
URL:https://sv-scheidt.de/event/anlage-belegt-2/
LOCATION:SV Scheidt 1910 e.V.\, Sportplatz SV Scheidt\, 66133\, Auf den Hütten\, 66133 Saarbrücken\, Scheidt\, Saarland\, 66133\, Deutschland
CATEGORIES:Clubheim
END:VEVENT
END:VCALENDAR