BEGIN:VCALENDAR
VERSION:2.0
PRODID:-//SV Scheidt 1910 e.V. - ECPv6.15.14//NONSGML v1.0//EN
CALSCALE:GREGORIAN
METHOD:PUBLISH
X-WR-CALNAME:SV Scheidt 1910 e.V.
X-ORIGINAL-URL:https://sv-scheidt.de
X-WR-CALDESC:Veranstaltungen für SV Scheidt 1910 e.V.
REFRESH-INTERVAL;VALUE=DURATION:PT1H
X-Robots-Tag:noindex
X-PUBLISHED-TTL:PT1H
BEGIN:VTIMEZONE
TZID:UTC
BEGIN:STANDARD
TZOFFSETFROM:+0000
TZOFFSETTO:+0000
TZNAME:UTC
DTSTART:20170101T000000
END:STANDARD
END:VTIMEZONE
BEGIN:VEVENT
DTSTART;TZID=UTC:20181103T130000
DTEND;TZID=UTC:20181103T160000
DTSTAMP:20260422T121358
CREATED:20181030T051755Z
LAST-MODIFIED:20181030T051755Z
UID:390-1541250000-1541260800@sv-scheidt.de
SUMMARY:F-Junioren / Hallenrunde in Ensheim
DESCRIPTION:Halle F1-Jgd. Sporthalle Ensheim 03.11.
URL:https://sv-scheidt.de/event/f-junioren-hallenrunde-in-ensheim/
LOCATION:Saarland
END:VEVENT
END:VCALENDAR